BEGIN:VCALENDAR
VERSION:2.0
PRODID:https://www.kufer.de/kuferweb / DE
METHOD:PUBLISH
CALSCALE:GREGORIAN
X-WR-TIMEZONE:Europe/Berlin
BEGIN:VTIMEZONE
TZID:Europe/Berlin
X-LIC-LOCATION:Europe/Berlin
BEGIN:DAYLIGHT
TZOFFSETFROM:+0100
TZOFFSETTO:+0200
TZNAME:CEST
DTSTART:19700329T020000
RRULE:FREQ=YEARLY;INTERVAL=1;BYDAY=-1SU;BYMONTH=3
END:DAYLIGHT
BEGIN:STANDARD
TZOFFSETFROM:+0200
TZOFFSETTO:+0100
TZNAME:CET
DTSTART:19701025T030000
RRULE:FREQ=YEARLY;INTERVAL=1;BYDAY=-1SU;BYMONTH=10
END:STANDARD
END:VTIMEZONE
BEGIN:VEVENT
DTSTAMP:20260420T102105
DTSTART;TZID=Europe/Berlin:20260520T164500
DTEND;TZID=Europe/Berlin:20260520T174500
UID:26FEL-31B-20260520T164500@BASIS E.V.KOBLENZ
SUMMARY:Feldenkrais® (26FEL-31B) 
LOCATION:Seminarraum Sonderbau - "Roter Salon", Johannes-Müller-Straße 7, 56068 Koblenz
END:VEVENT
BEGIN:VEVENT
DTSTAMP:20260420T102105
DTSTART;TZID=Europe/Berlin:20260527T164500
DTEND;TZID=Europe/Berlin:20260527T174500
UID:26FEL-31B-20260527T164500@BASIS E.V.KOBLENZ
SUMMARY:Feldenkrais® (26FEL-31B) 
LOCATION:Seminarraum Sonderbau - "Roter Salon", Johannes-Müller-Straße 7, 56068 Koblenz
END:VEVENT
BEGIN:VEVENT
DTSTAMP:20260420T102105
DTSTART;TZID=Europe/Berlin:20260603T164500
DTEND;TZID=Europe/Berlin:20260603T174500
UID:26FEL-31B-20260603T164500@BASIS E.V.KOBLENZ
SUMMARY:Feldenkrais® (26FEL-31B) 
LOCATION:Seminarraum Sonderbau - "Roter Salon", Johannes-Müller-Straße 7, 56068 Koblenz
END:VEVENT
BEGIN:VEVENT
DTSTAMP:20260420T102105
DTSTART;TZID=Europe/Berlin:20260610T164500
DTEND;TZID=Europe/Berlin:20260610T174500
UID:26FEL-31B-20260610T164500@BASIS E.V.KOBLENZ
SUMMARY:Feldenkrais® (26FEL-31B) 
LOCATION:Seminarraum Sonderbau - "Roter Salon", Johannes-Müller-Straße 7, 56068 Koblenz
END:VEVENT
BEGIN:VEVENT
DTSTAMP:20260420T102105
DTSTART;TZID=Europe/Berlin:20260617T164500
DTEND;TZID=Europe/Berlin:20260617T174500
UID:26FEL-31B-20260617T164500@BASIS E.V.KOBLENZ
SUMMARY:Feldenkrais® (26FEL-31B) 
LOCATION:Seminarraum Sonderbau - "Roter Salon", Johannes-Müller-Straße 7, 56068 Koblenz
END:VEVENT
BEGIN:VEVENT
DTSTAMP:20260420T102105
DTSTART;TZID=Europe/Berlin:20260624T164500
DTEND;TZID=Europe/Berlin:20260624T174500
UID:26FEL-31B-20260624T164500@BASIS E.V.KOBLENZ
SUMMARY:Feldenkrais® (26FEL-31B) 
LOCATION:Seminarraum Sonderbau - "Roter Salon", Johannes-Müller-Straße 7, 56068 Koblenz
END:VEVENT
END:VCALENDAR