BEGIN:VCALENDAR
VERSION:2.0
PRODID:https://www.kufer.de/kuferweb / DE
METHOD:PUBLISH
CALSCALE:GREGORIAN
X-WR-TIMEZONE:Europe/Berlin
BEGIN:VTIMEZONE
TZID:Europe/Berlin
X-LIC-LOCATION:Europe/Berlin
BEGIN:DAYLIGHT
TZOFFSETFROM:+0100
TZOFFSETTO:+0200
TZNAME:CEST
DTSTART:19700329T020000
RRULE:FREQ=YEARLY;INTERVAL=1;BYDAY=-1SU;BYMONTH=3
END:DAYLIGHT
BEGIN:STANDARD
TZOFFSETFROM:+0200
TZOFFSETTO:+0100
TZNAME:CET
DTSTART:19701025T030000
RRULE:FREQ=YEARLY;INTERVAL=1;BYDAY=-1SU;BYMONTH=10
END:STANDARD
END:VTIMEZONE
BEGIN:VEVENT
DTSTAMP:20260422T122333
DTSTART;TZID=Europe/Berlin:20260408T191500
DTEND;TZID=Europe/Berlin:20260408T201500
UID:26PWG-31B-20260408T191500@BASIS E.V.KOBLENZ
SUMMARY:Präventive Wirbelsäulengymnastik (26PWG-31B) 
LOCATION:Physiotherapie Sonderbau, Johannes-Müller-Straße 7, 56068 Koblenz
END:VEVENT
BEGIN:VEVENT
DTSTAMP:20260422T122333
DTSTART;TZID=Europe/Berlin:20260415T191500
DTEND;TZID=Europe/Berlin:20260415T201500
UID:26PWG-31B-20260415T191500@BASIS E.V.KOBLENZ
SUMMARY:Präventive Wirbelsäulengymnastik (26PWG-31B) 
LOCATION:Physiotherapie Sonderbau, Johannes-Müller-Straße 7, 56068 Koblenz
END:VEVENT
BEGIN:VEVENT
DTSTAMP:20260422T122333
DTSTART;TZID=Europe/Berlin:20260422T191500
DTEND;TZID=Europe/Berlin:20260422T201500
UID:26PWG-31B-20260422T191500@BASIS E.V.KOBLENZ
SUMMARY:Präventive Wirbelsäulengymnastik (26PWG-31B) 
LOCATION:Physiotherapie Sonderbau, Johannes-Müller-Straße 7, 56068 Koblenz
END:VEVENT
BEGIN:VEVENT
DTSTAMP:20260422T122333
DTSTART;TZID=Europe/Berlin:20260429T191500
DTEND;TZID=Europe/Berlin:20260429T201500
UID:26PWG-31B-20260429T191500@BASIS E.V.KOBLENZ
SUMMARY:Präventive Wirbelsäulengymnastik (26PWG-31B) 
LOCATION:Physiotherapie Sonderbau, Johannes-Müller-Straße 7, 56068 Koblenz
END:VEVENT
BEGIN:VEVENT
DTSTAMP:20260422T122333
DTSTART;TZID=Europe/Berlin:20260506T191500
DTEND;TZID=Europe/Berlin:20260506T201500
UID:26PWG-31B-20260506T191500@BASIS E.V.KOBLENZ
SUMMARY:Präventive Wirbelsäulengymnastik (26PWG-31B) 
LOCATION:Physiotherapie Sonderbau, Johannes-Müller-Straße 7, 56068 Koblenz
END:VEVENT
BEGIN:VEVENT
DTSTAMP:20260422T122333
DTSTART;TZID=Europe/Berlin:20260513T191500
DTEND;TZID=Europe/Berlin:20260513T201500
UID:26PWG-31B-20260513T191500@BASIS E.V.KOBLENZ
SUMMARY:Präventive Wirbelsäulengymnastik (26PWG-31B) 
LOCATION:Physiotherapie Sonderbau, Johannes-Müller-Straße 7, 56068 Koblenz
END:VEVENT
BEGIN:VEVENT
DTSTAMP:20260422T122333
DTSTART;TZID=Europe/Berlin:20260520T191500
DTEND;TZID=Europe/Berlin:20260520T201500
UID:26PWG-31B-20260520T191500@BASIS E.V.KOBLENZ
SUMMARY:Präventive Wirbelsäulengymnastik (26PWG-31B) 
LOCATION:Physiotherapie Sonderbau, Johannes-Müller-Straße 7, 56068 Koblenz
END:VEVENT
BEGIN:VEVENT
DTSTAMP:20260422T122333
DTSTART;TZID=Europe/Berlin:20260527T191500
DTEND;TZID=Europe/Berlin:20260527T201500
UID:26PWG-31B-20260527T191500@BASIS E.V.KOBLENZ
SUMMARY:Präventive Wirbelsäulengymnastik (26PWG-31B) 
LOCATION:Physiotherapie Sonderbau, Johannes-Müller-Straße 7, 56068 Koblenz
END:VEVENT
BEGIN:VEVENT
DTSTAMP:20260422T122333
DTSTART;TZID=Europe/Berlin:20260610T191500
DTEND;TZID=Europe/Berlin:20260610T201500
UID:26PWG-31B-20260610T191500@BASIS E.V.KOBLENZ
SUMMARY:Präventive Wirbelsäulengymnastik (26PWG-31B) 
LOCATION:Physiotherapie Sonderbau, Johannes-Müller-Straße 7, 56068 Koblenz
END:VEVENT
BEGIN:VEVENT
DTSTAMP:20260422T122333
DTSTART;TZID=Europe/Berlin:20260617T191500
DTEND;TZID=Europe/Berlin:20260617T201500
UID:26PWG-31B-20260617T191500@BASIS E.V.KOBLENZ
SUMMARY:Präventive Wirbelsäulengymnastik (26PWG-31B) 
LOCATION:Physiotherapie Sonderbau, Johannes-Müller-Straße 7, 56068 Koblenz
END:VEVENT
END:VCALENDAR