BEGIN:VCALENDAR
VERSION:2.0
PRODID:https://www.kufer.de/kuferweb / DE
METHOD:PUBLISH
CALSCALE:GREGORIAN
X-WR-TIMEZONE:Europe/Berlin
BEGIN:VTIMEZONE
TZID:Europe/Berlin
X-LIC-LOCATION:Europe/Berlin
BEGIN:DAYLIGHT
TZOFFSETFROM:+0100
TZOFFSETTO:+0200
TZNAME:CEST
DTSTART:19700329T020000
RRULE:FREQ=YEARLY;INTERVAL=1;BYDAY=-1SU;BYMONTH=3
END:DAYLIGHT
BEGIN:STANDARD
TZOFFSETFROM:+0200
TZOFFSETTO:+0100
TZNAME:CET
DTSTART:19701025T030000
RRULE:FREQ=YEARLY;INTERVAL=1;BYDAY=-1SU;BYMONTH=10
END:STANDARD
END:VTIMEZONE
BEGIN:VEVENT
DTSTAMP:20260421T121255
DTSTART;TZID=Europe/Berlin:20260106T183500
DTEND;TZID=Europe/Berlin:20260106T193500
UID:26RE-HE22-20260106T183500@BASIS E.V.KOBLENZ
SUMMARY:Herzsport (26RE-HE22) 
LOCATION:Sporthalle Ev.Stift, , 
END:VEVENT
BEGIN:VEVENT
DTSTAMP:20260421T121255
DTSTART;TZID=Europe/Berlin:20260113T183500
DTEND;TZID=Europe/Berlin:20260113T193500
UID:26RE-HE22-20260113T183500@BASIS E.V.KOBLENZ
SUMMARY:Herzsport (26RE-HE22) 
LOCATION:Sporthalle Ev.Stift, , 
END:VEVENT
BEGIN:VEVENT
DTSTAMP:20260421T121255
DTSTART;TZID=Europe/Berlin:20260203T183500
DTEND;TZID=Europe/Berlin:20260203T193500
UID:26RE-HE22-20260203T183500@BASIS E.V.KOBLENZ
SUMMARY:Herzsport (26RE-HE22) 
LOCATION:Sporthalle Ev.Stift, , 
END:VEVENT
BEGIN:VEVENT
DTSTAMP:20260421T121255
DTSTART;TZID=Europe/Berlin:20260210T183500
DTEND;TZID=Europe/Berlin:20260210T193500
UID:26RE-HE22-20260210T183500@BASIS E.V.KOBLENZ
SUMMARY:Herzsport (26RE-HE22) 
LOCATION:Sporthalle Ev.Stift, , 
END:VEVENT
BEGIN:VEVENT
DTSTAMP:20260421T121255
DTSTART;TZID=Europe/Berlin:20260217T183500
DTEND;TZID=Europe/Berlin:20260217T193500
UID:26RE-HE22-20260217T183500@BASIS E.V.KOBLENZ
SUMMARY:Herzsport (26RE-HE22) 
LOCATION:Sporthalle Ev.Stift, , 
END:VEVENT
BEGIN:VEVENT
DTSTAMP:20260421T121255
DTSTART;TZID=Europe/Berlin:20260224T183500
DTEND;TZID=Europe/Berlin:20260224T193500
UID:26RE-HE22-20260224T183500@BASIS E.V.KOBLENZ
SUMMARY:Herzsport (26RE-HE22) 
LOCATION:Sporthalle Ev.Stift, , 
END:VEVENT
BEGIN:VEVENT
DTSTAMP:20260421T121255
DTSTART;TZID=Europe/Berlin:20260303T183500
DTEND;TZID=Europe/Berlin:20260303T193500
UID:26RE-HE22-20260303T183500@BASIS E.V.KOBLENZ
SUMMARY:Herzsport (26RE-HE22) 
LOCATION:Sporthalle Ev.Stift, , 
END:VEVENT
BEGIN:VEVENT
DTSTAMP:20260421T121255
DTSTART;TZID=Europe/Berlin:20260310T183500
DTEND;TZID=Europe/Berlin:20260310T193500
UID:26RE-HE22-20260310T183500@BASIS E.V.KOBLENZ
SUMMARY:Herzsport (26RE-HE22) 
LOCATION:Sporthalle Ev.Stift, , 
END:VEVENT
BEGIN:VEVENT
DTSTAMP:20260421T121255
DTSTART;TZID=Europe/Berlin:20260317T183500
DTEND;TZID=Europe/Berlin:20260317T193500
UID:26RE-HE22-20260317T183500@BASIS E.V.KOBLENZ
SUMMARY:Herzsport (26RE-HE22) 
LOCATION:Sporthalle Ev.Stift, , 
END:VEVENT
BEGIN:VEVENT
DTSTAMP:20260421T121255
DTSTART;TZID=Europe/Berlin:20260324T183500
DTEND;TZID=Europe/Berlin:20260324T193500
UID:26RE-HE22-20260324T183500@BASIS E.V.KOBLENZ
SUMMARY:Herzsport (26RE-HE22) 
LOCATION:Sporthalle Ev.Stift, , 
END:VEVENT
BEGIN:VEVENT
DTSTAMP:20260421T121255
DTSTART;TZID=Europe/Berlin:20260331T183500
DTEND;TZID=Europe/Berlin:20260331T193500
UID:26RE-HE22-20260331T183500@BASIS E.V.KOBLENZ
SUMMARY:Herzsport (26RE-HE22) 
LOCATION:Sporthalle Ev.Stift, , 
END:VEVENT
BEGIN:VEVENT
DTSTAMP:20260421T121255
DTSTART;TZID=Europe/Berlin:20260407T183500
DTEND;TZID=Europe/Berlin:20260407T193500
UID:26RE-HE22-20260407T183500@BASIS E.V.KOBLENZ
SUMMARY:Herzsport (26RE-HE22) 
LOCATION:Sporthalle Ev.Stift, , 
END:VEVENT
BEGIN:VEVENT
DTSTAMP:20260421T121255
DTSTART;TZID=Europe/Berlin:20260414T183500
DTEND;TZID=Europe/Berlin:20260414T193500
UID:26RE-HE22-20260414T183500@BASIS E.V.KOBLENZ
SUMMARY:Herzsport (26RE-HE22) 
LOCATION:Sporthalle Ev.Stift, , 
END:VEVENT
BEGIN:VEVENT
DTSTAMP:20260421T121255
DTSTART;TZID=Europe/Berlin:20260421T183500
DTEND;TZID=Europe/Berlin:20260421T193500
UID:26RE-HE22-20260421T183500@BASIS E.V.KOBLENZ
SUMMARY:Herzsport (26RE-HE22) 
LOCATION:Sporthalle Ev.Stift, , 
END:VEVENT
BEGIN:VEVENT
DTSTAMP:20260421T121255
DTSTART;TZID=Europe/Berlin:20260428T183500
DTEND;TZID=Europe/Berlin:20260428T193500
UID:26RE-HE22-20260428T183500@BASIS E.V.KOBLENZ
SUMMARY:Herzsport (26RE-HE22) 
LOCATION:Sporthalle Ev.Stift, , 
END:VEVENT
BEGIN:VEVENT
DTSTAMP:20260421T121255
DTSTART;TZID=Europe/Berlin:20260505T183500
DTEND;TZID=Europe/Berlin:20260505T193500
UID:26RE-HE22-20260505T183500@BASIS E.V.KOBLENZ
SUMMARY:Herzsport (26RE-HE22) 
LOCATION:Sporthalle Ev.Stift, , 
END:VEVENT
BEGIN:VEVENT
DTSTAMP:20260421T121255
DTSTART;TZID=Europe/Berlin:20260512T183500
DTEND;TZID=Europe/Berlin:20260512T193500
UID:26RE-HE22-20260512T183500@BASIS E.V.KOBLENZ
SUMMARY:Herzsport (26RE-HE22) 
LOCATION:Sporthalle Ev.Stift, , 
END:VEVENT
BEGIN:VEVENT
DTSTAMP:20260421T121255
DTSTART;TZID=Europe/Berlin:20260519T183500
DTEND;TZID=Europe/Berlin:20260519T193500
UID:26RE-HE22-20260519T183500@BASIS E.V.KOBLENZ
SUMMARY:Herzsport (26RE-HE22) 
LOCATION:Sporthalle Ev.Stift, , 
END:VEVENT
BEGIN:VEVENT
DTSTAMP:20260421T121255
DTSTART;TZID=Europe/Berlin:20260526T183500
DTEND;TZID=Europe/Berlin:20260526T193500
UID:26RE-HE22-20260526T183500@BASIS E.V.KOBLENZ
SUMMARY:Herzsport (26RE-HE22) 
LOCATION:Sporthalle Ev.Stift, , 
END:VEVENT
BEGIN:VEVENT
DTSTAMP:20260421T121255
DTSTART;TZID=Europe/Berlin:20260602T183500
DTEND;TZID=Europe/Berlin:20260602T193500
UID:26RE-HE22-20260602T183500@BASIS E.V.KOBLENZ
SUMMARY:Herzsport (26RE-HE22) 
LOCATION:Sporthalle Ev.Stift, , 
END:VEVENT
BEGIN:VEVENT
DTSTAMP:20260421T121255
DTSTART;TZID=Europe/Berlin:20260609T183500
DTEND;TZID=Europe/Berlin:20260609T193500
UID:26RE-HE22-20260609T183500@BASIS E.V.KOBLENZ
SUMMARY:Herzsport (26RE-HE22) 
LOCATION:Sporthalle Ev.Stift, , 
END:VEVENT
BEGIN:VEVENT
DTSTAMP:20260421T121255
DTSTART;TZID=Europe/Berlin:20260616T183500
DTEND;TZID=Europe/Berlin:20260616T193500
UID:26RE-HE22-20260616T183500@BASIS E.V.KOBLENZ
SUMMARY:Herzsport (26RE-HE22) 
LOCATION:Sporthalle Ev.Stift, , 
END:VEVENT
BEGIN:VEVENT
DTSTAMP:20260421T121255
DTSTART;TZID=Europe/Berlin:20260623T183500
DTEND;TZID=Europe/Berlin:20260623T193500
UID:26RE-HE22-20260623T183500@BASIS E.V.KOBLENZ
SUMMARY:Herzsport (26RE-HE22) 
LOCATION:Sporthalle Ev.Stift, , 
END:VEVENT
BEGIN:VEVENT
DTSTAMP:20260421T121255
DTSTART;TZID=Europe/Berlin:20260630T183500
DTEND;TZID=Europe/Berlin:20260630T193500
UID:26RE-HE22-20260630T183500@BASIS E.V.KOBLENZ
SUMMARY:Herzsport (26RE-HE22) 
LOCATION:Sporthalle Ev.Stift, , 
END:VEVENT
BEGIN:VEVENT
DTSTAMP:20260421T121255
DTSTART;TZID=Europe/Berlin:20260707T183500
DTEND;TZID=Europe/Berlin:20260707T193500
UID:26RE-HE22-20260707T183500@BASIS E.V.KOBLENZ
SUMMARY:Herzsport (26RE-HE22) 
LOCATION:Sporthalle Ev.Stift, , 
END:VEVENT
BEGIN:VEVENT
DTSTAMP:20260421T121255
DTSTART;TZID=Europe/Berlin:20260714T183500
DTEND;TZID=Europe/Berlin:20260714T193500
UID:26RE-HE22-20260714T183500@BASIS E.V.KOBLENZ
SUMMARY:Herzsport (26RE-HE22) 
LOCATION:Sporthalle Ev.Stift, , 
END:VEVENT
BEGIN:VEVENT
DTSTAMP:20260421T121255
DTSTART;TZID=Europe/Berlin:20260721T183500
DTEND;TZID=Europe/Berlin:20260721T193500
UID:26RE-HE22-20260721T183500@BASIS E.V.KOBLENZ
SUMMARY:Herzsport (26RE-HE22) 
LOCATION:Sporthalle Ev.Stift, , 
END:VEVENT
BEGIN:VEVENT
DTSTAMP:20260421T121255
DTSTART;TZID=Europe/Berlin:20260728T183500
DTEND;TZID=Europe/Berlin:20260728T193500
UID:26RE-HE22-20260728T183500@BASIS E.V.KOBLENZ
SUMMARY:Herzsport (26RE-HE22) 
LOCATION:Sporthalle Ev.Stift, , 
END:VEVENT
BEGIN:VEVENT
DTSTAMP:20260421T121255
DTSTART;TZID=Europe/Berlin:20260804T183500
DTEND;TZID=Europe/Berlin:20260804T193500
UID:26RE-HE22-20260804T183500@BASIS E.V.KOBLENZ
SUMMARY:Herzsport (26RE-HE22) 
LOCATION:Sporthalle Ev.Stift, , 
END:VEVENT
BEGIN:VEVENT
DTSTAMP:20260421T121255
DTSTART;TZID=Europe/Berlin:20260811T183500
DTEND;TZID=Europe/Berlin:20260811T193500
UID:26RE-HE22-20260811T183500@BASIS E.V.KOBLENZ
SUMMARY:Herzsport (26RE-HE22) 
LOCATION:Sporthalle Ev.Stift, , 
END:VEVENT
BEGIN:VEVENT
DTSTAMP:20260421T121255
DTSTART;TZID=Europe/Berlin:20260818T183500
DTEND;TZID=Europe/Berlin:20260818T193500
UID:26RE-HE22-20260818T183500@BASIS E.V.KOBLENZ
SUMMARY:Herzsport (26RE-HE22) 
LOCATION:Sporthalle Ev.Stift, , 
END:VEVENT
BEGIN:VEVENT
DTSTAMP:20260421T121255
DTSTART;TZID=Europe/Berlin:20260825T183500
DTEND;TZID=Europe/Berlin:20260825T193500
UID:26RE-HE22-20260825T183500@BASIS E.V.KOBLENZ
SUMMARY:Herzsport (26RE-HE22) 
LOCATION:Sporthalle Ev.Stift, , 
END:VEVENT
BEGIN:VEVENT
DTSTAMP:20260421T121255
DTSTART;TZID=Europe/Berlin:20260901T183500
DTEND;TZID=Europe/Berlin:20260901T193500
UID:26RE-HE22-20260901T183500@BASIS E.V.KOBLENZ
SUMMARY:Herzsport (26RE-HE22) 
LOCATION:Sporthalle Ev.Stift, , 
END:VEVENT
BEGIN:VEVENT
DTSTAMP:20260421T121255
DTSTART;TZID=Europe/Berlin:20260908T183500
DTEND;TZID=Europe/Berlin:20260908T193500
UID:26RE-HE22-20260908T183500@BASIS E.V.KOBLENZ
SUMMARY:Herzsport (26RE-HE22) 
LOCATION:Sporthalle Ev.Stift, , 
END:VEVENT
BEGIN:VEVENT
DTSTAMP:20260421T121255
DTSTART;TZID=Europe/Berlin:20260915T183500
DTEND;TZID=Europe/Berlin:20260915T193500
UID:26RE-HE22-20260915T183500@BASIS E.V.KOBLENZ
SUMMARY:Herzsport (26RE-HE22) 
LOCATION:Sporthalle Ev.Stift, , 
END:VEVENT
BEGIN:VEVENT
DTSTAMP:20260421T121255
DTSTART;TZID=Europe/Berlin:20260922T183500
DTEND;TZID=Europe/Berlin:20260922T193500
UID:26RE-HE22-20260922T183500@BASIS E.V.KOBLENZ
SUMMARY:Herzsport (26RE-HE22) 
LOCATION:Sporthalle Ev.Stift, , 
END:VEVENT
BEGIN:VEVENT
DTSTAMP:20260421T121255
DTSTART;TZID=Europe/Berlin:20260929T183500
DTEND;TZID=Europe/Berlin:20260929T193500
UID:26RE-HE22-20260929T183500@BASIS E.V.KOBLENZ
SUMMARY:Herzsport (26RE-HE22) 
LOCATION:Sporthalle Ev.Stift, , 
END:VEVENT
BEGIN:VEVENT
DTSTAMP:20260421T121255
DTSTART;TZID=Europe/Berlin:20261006T183500
DTEND;TZID=Europe/Berlin:20261006T193500
UID:26RE-HE22-20261006T183500@BASIS E.V.KOBLENZ
SUMMARY:Herzsport (26RE-HE22) 
LOCATION:Sporthalle Ev.Stift, , 
END:VEVENT
BEGIN:VEVENT
DTSTAMP:20260421T121255
DTSTART;TZID=Europe/Berlin:20261013T183500
DTEND;TZID=Europe/Berlin:20261013T193500
UID:26RE-HE22-20261013T183500@BASIS E.V.KOBLENZ
SUMMARY:Herzsport (26RE-HE22) 
LOCATION:Sporthalle Ev.Stift, , 
END:VEVENT
BEGIN:VEVENT
DTSTAMP:20260421T121255
DTSTART;TZID=Europe/Berlin:20261020T183500
DTEND;TZID=Europe/Berlin:20261020T193500
UID:26RE-HE22-20261020T183500@BASIS E.V.KOBLENZ
SUMMARY:Herzsport (26RE-HE22) 
LOCATION:Sporthalle Ev.Stift, , 
END:VEVENT
BEGIN:VEVENT
DTSTAMP:20260421T121255
DTSTART;TZID=Europe/Berlin:20261027T183500
DTEND;TZID=Europe/Berlin:20261027T193500
UID:26RE-HE22-20261027T183500@BASIS E.V.KOBLENZ
SUMMARY:Herzsport (26RE-HE22) 
LOCATION:Sporthalle Ev.Stift, , 
END:VEVENT
BEGIN:VEVENT
DTSTAMP:20260421T121255
DTSTART;TZID=Europe/Berlin:20261103T183500
DTEND;TZID=Europe/Berlin:20261103T193500
UID:26RE-HE22-20261103T183500@BASIS E.V.KOBLENZ
SUMMARY:Herzsport (26RE-HE22) 
LOCATION:Sporthalle Ev.Stift, , 
END:VEVENT
BEGIN:VEVENT
DTSTAMP:20260421T121255
DTSTART;TZID=Europe/Berlin:20261110T183500
DTEND;TZID=Europe/Berlin:20261110T193500
UID:26RE-HE22-20261110T183500@BASIS E.V.KOBLENZ
SUMMARY:Herzsport (26RE-HE22) 
LOCATION:Sporthalle Ev.Stift, , 
END:VEVENT
BEGIN:VEVENT
DTSTAMP:20260421T121255
DTSTART;TZID=Europe/Berlin:20261117T183500
DTEND;TZID=Europe/Berlin:20261117T193500
UID:26RE-HE22-20261117T183500@BASIS E.V.KOBLENZ
SUMMARY:Herzsport (26RE-HE22) 
LOCATION:Sporthalle Ev.Stift, , 
END:VEVENT
BEGIN:VEVENT
DTSTAMP:20260421T121255
DTSTART;TZID=Europe/Berlin:20261124T183500
DTEND;TZID=Europe/Berlin:20261124T193500
UID:26RE-HE22-20261124T183500@BASIS E.V.KOBLENZ
SUMMARY:Herzsport (26RE-HE22) 
LOCATION:Sporthalle Ev.Stift, , 
END:VEVENT
BEGIN:VEVENT
DTSTAMP:20260421T121255
DTSTART;TZID=Europe/Berlin:20261201T183500
DTEND;TZID=Europe/Berlin:20261201T193500
UID:26RE-HE22-20261201T183500@BASIS E.V.KOBLENZ
SUMMARY:Herzsport (26RE-HE22) 
LOCATION:Sporthalle Ev.Stift, , 
END:VEVENT
BEGIN:VEVENT
DTSTAMP:20260421T121255
DTSTART;TZID=Europe/Berlin:20261208T183500
DTEND;TZID=Europe/Berlin:20261208T193500
UID:26RE-HE22-20261208T183500@BASIS E.V.KOBLENZ
SUMMARY:Herzsport (26RE-HE22) 
LOCATION:Sporthalle Ev.Stift, , 
END:VEVENT
BEGIN:VEVENT
DTSTAMP:20260421T121255
DTSTART;TZID=Europe/Berlin:20261215T183500
DTEND;TZID=Europe/Berlin:20261215T193500
UID:26RE-HE22-20261215T183500@BASIS E.V.KOBLENZ
SUMMARY:Herzsport (26RE-HE22) 
LOCATION:Sporthalle Ev.Stift, , 
END:VEVENT
END:VCALENDAR